BEGIN:VCALENDAR
VERSION:2.0
PRODID:-//Equipe Volare - ECPv6.14.0//NONSGML v1.0//EN
CALSCALE:GREGORIAN
METHOD:PUBLISH
X-ORIGINAL-URL:https://equipevolare.com.br
X-WR-CALDESC:Eventos para Equipe Volare
REFRESH-INTERVAL;VALUE=DURATION:PT1H
X-Robots-Tag:noindex
X-PUBLISHED-TTL:PT1H
BEGIN:VTIMEZONE
TZID:America/Sao_Paulo
BEGIN:STANDARD
TZOFFSETFROM:-0300
TZOFFSETTO:-0300
TZNAME:-03
DTSTART:20220101T000000
END:STANDARD
END:VTIMEZONE
BEGIN:VEVENT
DTSTART;TZID=America/Sao_Paulo:20220626T050000
DTEND;TZID=America/Sao_Paulo:20220626T050000
DTSTAMP:20260425T094509
CREATED:20211214T235737Z
LAST-MODIFIED:20211215T013240Z
UID:879-1656219600-1656219600@equipevolare.com.br
SUMMARY:Pedal Adventure São Paulo-SP (Tur; Av. Paulista\, Luz e Pq. Ibirapuera)
DESCRIPTION:Pedal Adventure para São Paulo-SP\, nosso destino tem a  Estação da Luz\, Avenida Paulista e Parque do Ibirapuera. Pedal de nível médio Ida e Volta em 200 Km no total.\n\n\nObrigações do ciclista;\n* Uso de  capacete é obrigatorio.\n* Uso de sinalização como luzes.\n* Ciclista deve esta preparado para o evento devido a distancia.\nRecomendação pessoais;\n* Levar água  para hidratação.\n* Levar alimento.\nConcentração Estação da CPTM\, Suzano-SP\n\nMaiores informações (11) 4105-16-90 whatsapp
URL:https://equipevolare.com.br/evento/pedal-adventure-sao-paulo-sp-tur-av-paulista-luz-e-pq-ibirapuera/
ATTACH;FMTTYPE=image/png:https://equipevolare.com.br/wp-content/uploads/2021/12/Junho-Sao-Paulo-paulista-luz-e-ibirapuera-ok.png
END:VEVENT
END:VCALENDAR