BEGIN:VCALENDAR
VERSION:2.0
PRODID:-//Equipe Volare - ECPv6.14.0//NONSGML v1.0//EN
CALSCALE:GREGORIAN
METHOD:PUBLISH
X-WR-CALNAME:Equipe Volare
X-ORIGINAL-URL:https://equipevolare.com.br
X-WR-CALDESC:Eventos para Equipe Volare
REFRESH-INTERVAL;VALUE=DURATION:PT1H
X-Robots-Tag:noindex
X-PUBLISHED-TTL:PT1H
BEGIN:VTIMEZONE
TZID:America/Sao_Paulo
BEGIN:STANDARD
TZOFFSETFROM:-0300
TZOFFSETTO:-0300
TZNAME:-03
DTSTART:20220101T000000
END:STANDARD
END:VTIMEZONE
BEGIN:VEVENT
DTSTART;TZID=America/Sao_Paulo:20220326T230000
DTEND;TZID=America/Sao_Paulo:20220327T230000
DTSTAMP:20260425T143536
CREATED:20211214T161709Z
LAST-MODIFIED:20220223T021403Z
UID:859-1648335600-1648422000@equipevolare.com.br
SUMMARY:Pedal Adventure Aparecida-SP (pedal pela fé)
DESCRIPTION:Pedal Adventure para cidade de Aparecida\, nosso destino tem com a basílica de Aparecida. Pedal de nível avançado\, somente Ida. Volta sera com carro de apoio e trans-bike. Distancia 145Km.\n\n\nEsse pedal tem o valor de R$ 110\,00 devido ao carro de apoio\, trans-bike\, alimentação e água. Resta apenas 1 vagas.\nFormas de pagamento por pix chave; contato@equipevolare.com.br e enviar comprovante com nome do participante para o mesmo e-mail.\n\n\n\nObrigações do ciclista;\n* Uso de  capacete é obrigatorio.\n* Uso de sinalização como luzes.\n* Ciclista deve esta preparado para o evento devido a distancia.\nRecomendação pessoais;\n* Levar água  para hidratação na bike. (teremos agua no carro de apoio).\n\nConcentração as 10:30 pm na Bicicletária Joka Bike\, Jd. Dona Benta\, Suzano-SP\n\nMaiores informações (11) 4105-1690 whatsapp
URL:https://equipevolare.com.br/evento/pedal-adventure-aparecida-sp-pedal-pela-fe/
ATTACH;FMTTYPE=image/png:https://equipevolare.com.br/wp-content/uploads/2021/12/Marco-Aparecida-ok.png
END:VEVENT
END:VCALENDAR