BEGIN:VCALENDAR
VERSION:2.0
PRODID:-//Equipe Volare - ECPv6.14.0//NONSGML v1.0//EN
CALSCALE:GREGORIAN
METHOD:PUBLISH
X-ORIGINAL-URL:https://equipevolare.com.br
X-WR-CALDESC:Eventos para Equipe Volare
REFRESH-INTERVAL;VALUE=DURATION:PT1H
X-Robots-Tag:noindex
X-PUBLISHED-TTL:PT1H
BEGIN:VTIMEZONE
TZID:America/Sao_Paulo
BEGIN:STANDARD
TZOFFSETFROM:-0300
TZOFFSETTO:-0300
TZNAME:-03
DTSTART:20220101T000000
END:STANDARD
END:VTIMEZONE
BEGIN:VEVENT
DTSTART;TZID=America/Sao_Paulo:20220130T054000
DTEND;TZID=America/Sao_Paulo:20220130T054000
DTSTAMP:20260425T174727
CREATED:20210204T012401Z
LAST-MODIFIED:20220103T232327Z
UID:658-1643521200-1643521200@equipevolare.com.br
SUMMARY:Pedal Adventure Guararema-SP "Cachoeira do Putim"
DESCRIPTION:Primeiro pedal   de 2022.\n\n\nPedal entre amigos e união de grupos de pedal para Guararema-SP\, nosso destino tem a Cachoeira do Putim. Pedal de nível médio Ida e Volta em 110Km.\nObrigações do ciclista;\n* Uso de  capacete é obrigatório.\n* Uso de sinalização como luzes.\n* Ciclista deve esta preparado para o evento devido a distancia.\nRecomendação pessoais;\n* Levar água  para hidratação.\n* Levar alimento.\nConcentração Bicicletária Joka Bike\, Jd. Dona Benta\, Suzano-SP\n\nMaiores informações (11) 4105-16-90 whatsapp
URL:https://equipevolare.com.br/evento/guararema-ciclo-eco-cachoeira-do-putin/
ATTACH;FMTTYPE=image/png:https://equipevolare.com.br/wp-content/uploads/2021/02/Janeiro-Guararema-ok.png
END:VEVENT
END:VCALENDAR