BEGIN:VCALENDAR
VERSION:2.0
PRODID:-//Equipe Volare - ECPv6.14.0//NONSGML v1.0//EN
CALSCALE:GREGORIAN
METHOD:PUBLISH
X-WR-CALNAME:Equipe Volare
X-ORIGINAL-URL:https://equipevolare.com.br
X-WR-CALDESC:Eventos para Equipe Volare
REFRESH-INTERVAL;VALUE=DURATION:PT1H
X-Robots-Tag:noindex
X-PUBLISHED-TTL:PT1H
BEGIN:VTIMEZONE
TZID:America/Sao_Paulo
BEGIN:STANDARD
TZOFFSETFROM:-0300
TZOFFSETTO:-0300
TZNAME:-03
DTSTART:20220101T000000
END:STANDARD
END:VTIMEZONE
BEGIN:VEVENT
DTSTART;TZID=America/Sao_Paulo:20220227T044000
DTEND;TZID=America/Sao_Paulo:20220227T044000
DTSTAMP:20260425T175245
CREATED:20210122T034101Z
LAST-MODIFIED:20211215T013433Z
UID:565-1645936800-1645936800@equipevolare.com.br
SUMMARY:Pedal Adventure Arujá-SP e Santa Isabel-SP via estrada Ouro Fino
DESCRIPTION:Pedal Adventure entre as cidades de Arujá-SP e Santa Isabel-SP\, nosso pedal terá lindas paisagens e boa estrada. Pedal de nível médio Ida e Volta em 80Km.\nObrigações do ciclista;\n* Uso de  capacete é obrigatorio.\n* Uso de sinalização como luzes.\n* Ciclista deve esta preparado para o evento devido a distancia.\nRecomendação pessoais;\n* Levar água  para hidratação.\n* Levar alimento.\nConcentração Bicicletária Joka Bike\, Jd. Dona Benta\, Suzano-SP\n\nMaiores informações (11) 4105-16-90 whatsapp
URL:https://equipevolare.com.br/evento/circuito-aruja-sp-e-santa-isabel-sp-via-estrada-ouro-fino/
ATTACH;FMTTYPE=image/png:https://equipevolare.com.br/wp-content/uploads/2021/01/Fevereiro-Est.Ouro-Fino-ok.png
END:VEVENT
END:VCALENDAR